BEGIN:VCALENDAR
VERSION:2.0
PRODID:-//CPFD Software - ECPv6.15.15//NONSGML v1.0//EN
CALSCALE:GREGORIAN
METHOD:PUBLISH
X-ORIGINAL-URL:https://cpfd-software.com
X-WR-CALDESC:Events for CPFD Software
REFRESH-INTERVAL;VALUE=DURATION:PT1H
X-Robots-Tag:noindex
X-PUBLISHED-TTL:PT1H
BEGIN:VTIMEZONE
TZID:America/Chicago
BEGIN:DAYLIGHT
TZOFFSETFROM:-0600
TZOFFSETTO:-0500
TZNAME:CDT
DTSTART:20210314T080000
END:DAYLIGHT
BEGIN:STANDARD
TZOFFSETFROM:-0500
TZOFFSETTO:-0600
TZNAME:CST
DTSTART:20211107T070000
END:STANDARD
BEGIN:DAYLIGHT
TZOFFSETFROM:-0600
TZOFFSETTO:-0500
TZNAME:CDT
DTSTART:20220313T080000
END:DAYLIGHT
BEGIN:STANDARD
TZOFFSETFROM:-0500
TZOFFSETTO:-0600
TZNAME:CST
DTSTART:20221106T070000
END:STANDARD
BEGIN:DAYLIGHT
TZOFFSETFROM:-0600
TZOFFSETTO:-0500
TZNAME:CDT
DTSTART:20230312T080000
END:DAYLIGHT
BEGIN:STANDARD
TZOFFSETFROM:-0500
TZOFFSETTO:-0600
TZNAME:CST
DTSTART:20231105T070000
END:STANDARD
END:VTIMEZONE
BEGIN:VEVENT
DTSTART;TZID=America/Chicago:20221130T090000
DTEND;TZID=America/Chicago:20221130T100000
DTSTAMP:20260419T111655
CREATED:20221104T201231Z
LAST-MODIFIED:20221111T211959Z
UID:67650-1669798800-1669802400@cpfd-software.com
SUMMARY:Webinar: Optimize Virtual Reactor™ Workloads in the Cloud with Rescale - November 30\, 2022
DESCRIPTION:CPFD Software and Rescale will jointly host a webinar on Wednesday\, November 30\, 2022 at 9 am CST: Optimize Virtual Reactor Workloads in the Cloud with Rescale. Join us as we showcase just how easy and secure it can be to get up and running with Barracuda Virtual Reactor in the cloud. \nRecent enhancements enable Barracuda Virtual Reactor use on high performance cloud computing systems with speed-up benchmarks up to 1\,000x over CPU observed. High performance computing in the cloud provides the global Virtual Reactor user community with instant access to the latest GPU and multi-GPU instances and virtually unlimited capacity without the overhead associated with on premise hardware deployment and maintenance. \nTo get ‘pay as you go’ cloud access to the latest GPUs and high-performance computing\, CPFD has partnered with Rescale to make Barracuda Virtual Reactor workloads available with cloud compute in just a few clicks. \nThe webinar will be recorded and available for playback after the live presentation.
URL:https://cpfd-software.com/event/webinar-optimize-virtual-reactor-workloads-in-the-cloud-with-rescale-november-30-2022/
CATEGORIES:CPFD
ATTACH;FMTTYPE=image/png:https://cpfd-software.com/wp-content/uploads/2022/11/rescale_cpfd_webinar_graphic.png
END:VEVENT
END:VCALENDAR