BEGIN:VCALENDAR
VERSION:2.0
PRODID:-//CPFD Software - ECPv6.15.15//NONSGML v1.0//EN
CALSCALE:GREGORIAN
METHOD:PUBLISH
X-WR-CALNAME:CPFD Software
X-ORIGINAL-URL:https://cpfd-software.com
X-WR-CALDESC:Events for CPFD Software
REFRESH-INTERVAL;VALUE=DURATION:PT1H
X-Robots-Tag:noindex
X-PUBLISHED-TTL:PT1H
BEGIN:VTIMEZONE
TZID:America/Chicago
BEGIN:DAYLIGHT
TZOFFSETFROM:-0600
TZOFFSETTO:-0500
TZNAME:CDT
DTSTART:20230312T080000
END:DAYLIGHT
BEGIN:STANDARD
TZOFFSETFROM:-0500
TZOFFSETTO:-0600
TZNAME:CST
DTSTART:20231105T070000
END:STANDARD
BEGIN:DAYLIGHT
TZOFFSETFROM:-0600
TZOFFSETTO:-0500
TZNAME:CDT
DTSTART:20240310T080000
END:DAYLIGHT
BEGIN:STANDARD
TZOFFSETFROM:-0500
TZOFFSETTO:-0600
TZNAME:CST
DTSTART:20241103T070000
END:STANDARD
BEGIN:DAYLIGHT
TZOFFSETFROM:-0600
TZOFFSETTO:-0500
TZNAME:CDT
DTSTART:20250309T080000
END:DAYLIGHT
BEGIN:STANDARD
TZOFFSETFROM:-0500
TZOFFSETTO:-0600
TZNAME:CST
DTSTART:20251102T070000
END:STANDARD
END:VTIMEZONE
BEGIN:VEVENT
DTSTART;VALUE=DATE:20240923
DTEND;VALUE=DATE:20240928
DTSTAMP:20260420T075254
CREATED:20231127T162708Z
LAST-MODIFIED:20231127T162708Z
UID:69535-1727049600-1727481599@cpfd-software.com
SUMMARY:Barracuda Virtual Reactor Web-based Training September 23-27\, 2024
DESCRIPTION:This training is designed to get you up to speed with Barracuda Virtual Reactor in five days.  Each day\, attendees work through self-led materials and join a pre-scheduled 1-hour web meeting that emphasizes interaction with instructors and other participants.  By the end of the course\, you’ll have a working understanding of how to use Virtual Reactor™ software\, including project setup\, operating the solver\, and post-processing using Tecplot for Barracuda. Depending on your organization’s needs\, our experienced team of engineers and training staff can provide hands-on assistance as you set up your own project in Virtual Reactor during private break-out sessions. \nContact us for pricing information or to register your interest in the class.
URL:https://cpfd-software.com/event/barracuda-virtual-reactor-web-based-training-september-23-27-2024/
CATEGORIES:CPFD
ATTACH;FMTTYPE=image/png:https://cpfd-software.com/wp-content/uploads/2021/01/2021-training_calendar_event_graphic.png
END:VEVENT
BEGIN:VEVENT
DTSTART;VALUE=DATE:20240924
DTEND;VALUE=DATE:20240927
DTSTAMP:20260420T075254
CREATED:20240108T093423Z
LAST-MODIFIED:20240108T093424Z
UID:69827-1727136000-1727395199@cpfd-software.com
SUMMARY:LARTC - September 2024
DESCRIPTION:In 2024 we will be reuniting with our Latin American network in Cartagena\, Colombia. Acting as the only event in the region to attract all the major refiners in Latin America\, attendees and sponsors can access unparalleled networking and collaboration opportunities.
URL:https://cpfd-software.com/event/lartc-september-2024/
CATEGORIES:General
ATTACH;FMTTYPE=image/png:https://cpfd-software.com/wp-content/uploads/2022/02/LARTC-500x375-2.png
END:VEVENT
END:VCALENDAR