BEGIN:VCALENDAR
VERSION:2.0
PRODID:-//CPFD Software - ECPv6.15.15//NONSGML v1.0//EN
CALSCALE:GREGORIAN
METHOD:PUBLISH
X-WR-CALNAME:CPFD Software
X-ORIGINAL-URL:https://cpfd-software.com
X-WR-CALDESC:Events for CPFD Software
REFRESH-INTERVAL;VALUE=DURATION:PT1H
X-Robots-Tag:noindex
X-PUBLISHED-TTL:PT1H
BEGIN:VTIMEZONE
TZID:America/Chicago
BEGIN:DAYLIGHT
TZOFFSETFROM:-0600
TZOFFSETTO:-0500
TZNAME:CDT
DTSTART:20220313T080000
END:DAYLIGHT
BEGIN:STANDARD
TZOFFSETFROM:-0500
TZOFFSETTO:-0600
TZNAME:CST
DTSTART:20221106T070000
END:STANDARD
BEGIN:DAYLIGHT
TZOFFSETFROM:-0600
TZOFFSETTO:-0500
TZNAME:CDT
DTSTART:20230312T080000
END:DAYLIGHT
BEGIN:STANDARD
TZOFFSETFROM:-0500
TZOFFSETTO:-0600
TZNAME:CST
DTSTART:20231105T070000
END:STANDARD
BEGIN:DAYLIGHT
TZOFFSETFROM:-0600
TZOFFSETTO:-0500
TZNAME:CDT
DTSTART:20240310T080000
END:DAYLIGHT
BEGIN:STANDARD
TZOFFSETFROM:-0500
TZOFFSETTO:-0600
TZNAME:CST
DTSTART:20241103T070000
END:STANDARD
END:VTIMEZONE
BEGIN:VEVENT
DTSTART;VALUE=DATE:20230918
DTEND;VALUE=DATE:20230923
DTSTAMP:20260425T145203
CREATED:20221201T171339Z
LAST-MODIFIED:20230906T180200Z
UID:67829-1694995200-1695427199@cpfd-software.com
SUMMARY:Barracuda Virtual Reactor Web-based Training September 18-22\, 2023
DESCRIPTION:This training is designed to get you up to speed with Barracuda Virtual Reactor in five days.  Each day\, attendees work through self-led materials and join a pre-scheduled 1-hour web meeting that emphasizes interaction with instructors and other participants.  By the end of the course\, you’ll have a working understanding of how to use Virtual Reactor™ software\, including project setup\, operating the solver\, and post-processing using Tecplot for Barracuda. Depending on your organization’s needs\, our experienced team of engineers and training staff can provide hands-on assistance as you set up your own project in Virtual Reactor during private break-out sessions. \nContact us for pricing information or to register your interest in the class.
URL:https://cpfd-software.com/event/barracuda-virtual-reactor-web-based-training-september-18-22-2023/
CATEGORIES:CPFD
ATTACH;FMTTYPE=image/png:https://cpfd-software.com/wp-content/uploads/2021/01/2021-training_calendar_event_graphic.png
END:VEVENT
BEGIN:VEVENT
DTSTART;VALUE=DATE:20230920
DTEND;VALUE=DATE:20230921
DTSTAMP:20260425T145203
CREATED:20230831T020051Z
LAST-MODIFIED:20230906T180116Z
UID:69191-1695168000-1695254399@cpfd-software.com
SUMMARY:Increase Performance & Accelerate Barracuda Virtual Reactor Simulations in the Cloud Webinar\, September 20\, 2023
DESCRIPTION:Rescale will host a webinar alongside CPFD Software and Aerotak on Wednesday\, September 20\, 2023 at 9:30am CDT: Increase Performance & Accelerate Barracuda Virtual Reactor Simulations in the Cloud. \nJoin experts from Aerotak\, CPFD\, and Rescale as they: \n\nReview a computational fluid dynamics (CFD) study on sand and gravel filling in seabed socket for monopile foundation using Barracuda Virtual Reactor and the Rescale platform\nEvaluate particle distribution uniformity\, surface contour\, and particle loss in various conditions using transient and three-dimensional simulation approach\nDiscuss the benefits of deploying Barracuda Virtual Reactor on Rescale\, including: instant access to the software on cutting-edge HPC technology\, without the IT hassle\nUncover how Virtual Reactor’s multi-GPU performance on Rescale shows over 500x acceleration when compared to CPU performance\nExamine benchmark data demonstrating how Rescale can help optimize your GPU simulations with Performance Profiles
URL:https://cpfd-software.com/event/increase-performance-accelerate-barracuda-virtual-reactor-simulations-in-the-cloud-webinar-september-20-2023/
CATEGORIES:General
ATTACH;FMTTYPE=image/png:https://cpfd-software.com/wp-content/uploads/2023/08/rescale_logo_grey-300x86-1.png
END:VEVENT
END:VCALENDAR